BEGIN:VCALENDAR
VERSION:2.0
PRODID:-//Kingswood Grapevine - ECPv6.15.18//NONSGML v1.0//EN
CALSCALE:GREGORIAN
METHOD:PUBLISH
X-WR-CALNAME:Kingswood Grapevine
X-ORIGINAL-URL:https://www.kingswoodgrapevine.co.uk
X-WR-CALDESC:Events for Kingswood Grapevine
REFRESH-INTERVAL;VALUE=DURATION:PT1H
X-Robots-Tag:noindex
X-PUBLISHED-TTL:PT1H
BEGIN:VTIMEZONE
TZID:UTC
BEGIN:STANDARD
TZOFFSETFROM:+0000
TZOFFSETTO:+0000
TZNAME:UTC
DTSTART:20210101T000000
END:STANDARD
END:VTIMEZONE
BEGIN:VEVENT
DTSTART;TZID=UTC:20220910T120000
DTEND;TZID=UTC:20220910T180000
DTSTAMP:20260425T154342
CREATED:20220910T090627Z
LAST-MODIFIED:20220910T090627Z
UID:608-1662811200-1662832800@www.kingswoodgrapevine.co.uk
SUMMARY:Finals Day at Tubbs Turf - 21st Anniversary Garden Party
DESCRIPTION:Tennis Tournament – BBQ – Pimms and Beer – Short Tennis – Netball Game – Table Tennis – Tea and Cakes – Free Raffle – Activities for all
URL:https://www.kingswoodgrapevine.co.uk/event/finals-day-at-tubbs-turf-21st-anniversary-garden-party/
LOCATION:Tubbs Turf\, 3 Wotton Road\, Kingswood\, Wotton-under-Edge\, GL12 8RA\, United Kingdom
CATEGORIES:Community,Outdoor Event,Sport
ATTACH;FMTTYPE=image/jpeg:https://www.kingswoodgrapevine.co.uk/wp-content/uploads/2022/09/Tubbs-Turf-cover.jpg
END:VEVENT
BEGIN:VEVENT
DTSTART;TZID=UTC:20220319T190000
DTEND;TZID=UTC:20220319T230000
DTSTAMP:20260425T154342
CREATED:20220216T142023Z
LAST-MODIFIED:20220314T101510Z
UID:165-1647716400-1647730800@www.kingswoodgrapevine.co.uk
SUMMARY:KINGSWOOD FC SOCIAL
DESCRIPTION:A fantastic social evening raising funds for Kingswood FC. The evening’s entertainment includes a Quiz (teams of 6)\, a hog roast and a Disco \nTickets – By email – Kingswoodwfc@gmail.com \nEmail address – kingswoodwfc@gmail.com \nParking – Yes \nDisabled access – Yes
URL:https://www.kingswoodgrapevine.co.uk/event/test-2/
LOCATION:Kingswood Village Hall\, Wickwar Road\, Kingswood\, Wotton Under Edge\, GL12 8RF\, United Kingdom
CATEGORIES:Arts,Charity,Comedy,Community,Meal,Outdoor Event,Sport
ATTACH;FMTTYPE=image/jpeg:https://www.kingswoodgrapevine.co.uk/wp-content/uploads/2022/03/The-Freedom-Ball-1.jpg
END:VEVENT
END:VCALENDAR