BEGIN:VCALENDAR
VERSION:2.0
PRODID:-//Kingswood Grapevine - ECPv6.15.18//NONSGML v1.0//EN
CALSCALE:GREGORIAN
METHOD:PUBLISH
X-WR-CALNAME:Kingswood Grapevine
X-ORIGINAL-URL:https://www.kingswoodgrapevine.co.uk
X-WR-CALDESC:Events for Kingswood Grapevine
REFRESH-INTERVAL;VALUE=DURATION:PT1H
X-Robots-Tag:noindex
X-PUBLISHED-TTL:PT1H
BEGIN:VTIMEZONE
TZID:UTC
BEGIN:STANDARD
TZOFFSETFROM:+0000
TZOFFSETTO:+0000
TZNAME:UTC
DTSTART:20230101T000000
END:STANDARD
END:VTIMEZONE
BEGIN:VEVENT
DTSTART;TZID=UTC:20240607T150000
DTEND;TZID=UTC:20240607T170000
DTSTAMP:20260424T053313
CREATED:20240519T075650Z
LAST-MODIFIED:20240519T080248Z
UID:1078-1717772400-1717779600@www.kingswoodgrapevine.co.uk
SUMMARY:Kingswood Duck Race
DESCRIPTION:
URL:https://www.kingswoodgrapevine.co.uk/event/kingswood-duck-race/
LOCATION:Kingswood School Playground\, Abbey Street\, Kingswood\, GL12 8RN\, United Kingdom
CATEGORIES:Community
END:VEVENT
END:VCALENDAR