BEGIN:VCALENDAR
VERSION:2.0
PRODID:-//Kingswood Grapevine - ECPv6.15.18//NONSGML v1.0//EN
CALSCALE:GREGORIAN
METHOD:PUBLISH
X-ORIGINAL-URL:https://www.kingswoodgrapevine.co.uk
X-WR-CALDESC:Events for Kingswood Grapevine
REFRESH-INTERVAL;VALUE=DURATION:PT1H
X-Robots-Tag:noindex
X-PUBLISHED-TTL:PT1H
BEGIN:VTIMEZONE
TZID:UTC
BEGIN:STANDARD
TZOFFSETFROM:+0000
TZOFFSETTO:+0000
TZNAME:UTC
DTSTART:20210101T000000
END:STANDARD
END:VTIMEZONE
BEGIN:VEVENT
DTSTART;TZID=UTC:20241007T080000
DTEND;TZID=UTC:20241025T170000
DTSTAMP:20260425T103757
CREATED:20240923T101158Z
LAST-MODIFIED:20240923T101158Z
UID:1207-1728288000-1729875600@www.kingswoodgrapevine.co.uk
SUMMARY:The Keepers - Wotton Area Community Hub - What's on in October
DESCRIPTION:The Keepers is a community hub supporting the residents of Wotton and surrounding areas. It is here for everyone. Either come along to one of the organised groups below\, or just pop in for a chat and a cuppa – whenever we are open. Come as you are\, bring what you can and take what you need.
URL:https://www.kingswoodgrapevine.co.uk/event/the-keepers-wotton-area-community-hub-whats-on-in-october-2/
LOCATION:The Keepers Community Hub\, Symn Lane\, Wotton Under Edge\, Gloucestershire\, GL12 7BD\, United Kingdom
CATEGORIES:Community
ATTACH;FMTTYPE=image/jpeg:https://www.kingswoodgrapevine.co.uk/wp-content/uploads/2024/09/OCTOBER2024.jpg
END:VEVENT
BEGIN:VEVENT
DTSTART;TZID=UTC:20240603T080000
DTEND;TZID=UTC:20240628T170000
DTSTAMP:20260425T103757
CREATED:20240526T150023Z
LAST-MODIFIED:20240526T150023Z
UID:1100-1717401600-1719594000@www.kingswoodgrapevine.co.uk
SUMMARY:The Keepers - Wotton Area Community Hub - What's on in June
DESCRIPTION:The Keepers is a community hub supporting the residents of Wotton and surrounding areas. It is here for everyone. Either come along to one of the organised groups below\, or just pop in for a chat and a cuppa – whenever we are open. Come as you are\, bring what you can and take what you need.
URL:https://www.kingswoodgrapevine.co.uk/event/the-keepers-wotton-area-community-hub-whats-on-in-june-2/
LOCATION:The Keepers Community Hub\, Symn Lane\, Wotton Under Edge\, Gloucestershire\, GL12 7BD\, United Kingdom
CATEGORIES:Community
ATTACH;FMTTYPE=image/jpeg:https://www.kingswoodgrapevine.co.uk/wp-content/uploads/2024/05/Keepers-june_2024.jpg
END:VEVENT
BEGIN:VEVENT
DTSTART;TZID=UTC:20240201T080000
DTEND;TZID=UTC:20240229T170000
DTSTAMP:20260425T103757
CREATED:20240217T074821Z
LAST-MODIFIED:20240217T074821Z
UID:963-1706774400-1709226000@www.kingswoodgrapevine.co.uk
SUMMARY:The Keepers - Wotton Area Community Hub - What's on in February
DESCRIPTION:The Keepers is a community hub supporting the residents of Wotton and the surrounding areas. It is here for everyone. Either come along to one of the organised groups shown on this poster or just pop in for a chat and a cuppa – whenever they are open. For more details on What’s On at the Keepers in January click here.
URL:https://www.kingswoodgrapevine.co.uk/event/the-keepers-wotton-area-community-hub-whats-on-in-february/
LOCATION:The Keepers Community Hub\, Symn Lane\, Wotton Under Edge\, Gloucestershire\, GL12 7BD\, United Kingdom
CATEGORIES:Community
ATTACH;FMTTYPE=image/jpeg:https://www.kingswoodgrapevine.co.uk/wp-content/uploads/2024/02/February-2024-Keepers-Wotton-JPEG.jpg
END:VEVENT
BEGIN:VEVENT
DTSTART;TZID=UTC:20240101T080000
DTEND;TZID=UTC:20240131T170000
DTSTAMP:20260425T103757
CREATED:20231219T073517Z
LAST-MODIFIED:20231219T073603Z
UID:942-1704096000-1706720400@www.kingswoodgrapevine.co.uk
SUMMARY:The Keepers - Wotton Area Community Hub - What's On in January
DESCRIPTION:The Keepers is a community hub supporting the residents of Wotton and the surrounding areas. It is here for everyone. Either come along to one of the organised groups shown on this poster or just pop in for a chat and a cuppa – whenever they are open. For more details on What’s On at the Keepers in January click here.
URL:https://www.kingswoodgrapevine.co.uk/event/the-keepers-wotton-area-community-hub-whats-on-in-january-2/
LOCATION:The Keepers Community Hub\, Symn Lane\, Wotton Under Edge\, Gloucestershire\, GL12 7BD\, United Kingdom
CATEGORIES:Community
ATTACH;FMTTYPE=image/jpeg:https://www.kingswoodgrapevine.co.uk/wp-content/uploads/2023/12/Whats-on-in-January-24-Keepers-JPEG-scaled.jpg
END:VEVENT
BEGIN:VEVENT
DTSTART;TZID=UTC:20231201T080000
DTEND;TZID=UTC:20231231T170000
DTSTAMP:20260425T103757
CREATED:20231120T131857Z
LAST-MODIFIED:20231120T132232Z
UID:902-1701417600-1704042000@www.kingswoodgrapevine.co.uk
SUMMARY:The Keepers – Wotton Area Community Hub – What’s on in December
DESCRIPTION:The Keepers is a community hub supporting the residents of Wotton and the surrounding areas. It is here for everyone. Either come along to one of the organised groups shown on this poster or just pop in for a chat and a cuppa – whenever they are open. For more details on What’s On at the Keepers in December click here.
URL:https://www.kingswoodgrapevine.co.uk/event/the-keepers-wotton-area-community-hub-whats-on-in-december/
LOCATION:The Keepers Community Hub\, Symn Lane\, Wotton Under Edge\, Gloucestershire\, GL12 7BD\, United Kingdom
CATEGORIES:Community
ATTACH;FMTTYPE=image/jpeg:https://www.kingswoodgrapevine.co.uk/wp-content/uploads/2023/11/Whats-on-in-December-Keepers-JPEG-scaled.jpg
END:VEVENT
BEGIN:VEVENT
DTSTART;TZID=UTC:20231005T093000
DTEND;TZID=UTC:20231005T113000
DTSTAMP:20260425T103757
CREATED:20230921T074322Z
LAST-MODIFIED:20230921T074322Z
UID:848-1696498200-1696505400@www.kingswoodgrapevine.co.uk
SUMMARY:Cooking Confidence and Next Steps
DESCRIPTION:Start to hone your cooking skills on this next steps course. \nBecome confident with chopping\, weighing and measuring. Work independently on your various recipes. Be creative in the kitchen. Applying your understanding of budgeting\, food storage and using leftovers. \nThursday mornings 9.30am-11.30am 5th October – 19th October at The Keepers Hub. Free subject to eligibility. \nTo book a place or for more information\, please contact Gail from The Keepers Hub – thekeeperscommunityhub@gmail.com
URL:https://www.kingswoodgrapevine.co.uk/event/cooking-confidence-and-next-steps/2023-10-05/
LOCATION:The Keepers Community Hub\, Symn Lane\, Wotton Under Edge\, Gloucestershire\, GL12 7BD\, United Kingdom
CATEGORIES:Community
END:VEVENT
BEGIN:VEVENT
DTSTART;TZID=UTC:20231002T133000
DTEND;TZID=UTC:20231002T153000
DTSTAMP:20260425T103757
CREATED:20230921T064905Z
LAST-MODIFIED:20230921T065604Z
UID:831-1696253400-1696260600@www.kingswoodgrapevine.co.uk
SUMMARY:Next Steps for Tablets or IPads
DESCRIPTION:Next Steps for Tablets of IPads is a series of six sessions on Monday afternoons between 1.30pm and 3.30pm starting 2nd October. \nTopics will depend on the interests of participants – but may include:~\nInstalling Apps\nAvoiding scams\nPaypal\nTravel plans and bookings \nYou do not need to own a device to attend this course\, but it is advantageous. \nFree subject to eligibility. There may be a cost for people in work. \nPhone 07585 466418 pop in or email thekeeperscommunityhub@gmail.com to book or find out more.
URL:https://www.kingswoodgrapevine.co.uk/event/next-steps-for-tablets-or-ipads/2023-10-02/
LOCATION:The Keepers Community Hub\, Symn Lane\, Wotton Under Edge\, Gloucestershire\, GL12 7BD\, United Kingdom
CATEGORIES:Community
ATTACH;FMTTYPE=image/png:https://www.kingswoodgrapevine.co.uk/wp-content/uploads/2023/09/Next-Steps-for-Tablets-or-Ipads.png
END:VEVENT
BEGIN:VEVENT
DTSTART;TZID=UTC:20230901T080000
DTEND;TZID=UTC:20230930T170000
DTSTAMP:20260425T103757
CREATED:20230831T111305Z
LAST-MODIFIED:20230831T111305Z
UID:809-1693555200-1696093200@www.kingswoodgrapevine.co.uk
SUMMARY:The Keepers - Wotton Area Community Hub - What's on in September
DESCRIPTION:The Keepers is a community hub supporting the residents of Wotton and the surrounding areas. It is here for everyone. Either come along to one of the organised groups shown on this poster or just pop in for a chat and a cuppa – whenever they are open. For more details on What’s On at the Keepers in September click here.
URL:https://www.kingswoodgrapevine.co.uk/event/the-keepers-wotton-area-community-hub-whats-on-in-september/
LOCATION:The Keepers Community Hub\, Symn Lane\, Wotton Under Edge\, Gloucestershire\, GL12 7BD\, United Kingdom
CATEGORIES:Community
ATTACH;FMTTYPE=image/jpeg:https://www.kingswoodgrapevine.co.uk/wp-content/uploads/2023/08/Whats-on-in-September-Keepers_page-0001-1.jpg
END:VEVENT
BEGIN:VEVENT
DTSTART;TZID=UTC:20230801T080000
DTEND;TZID=UTC:20230831T170000
DTSTAMP:20260425T103757
CREATED:20230822T074640Z
LAST-MODIFIED:20230822T074640Z
UID:798-1690876800-1693501200@www.kingswoodgrapevine.co.uk
SUMMARY:The Keepers – Wotton Area Community Hub – What’s on in August
DESCRIPTION:The Keepers is a community hub supporting the residents of Wotton and the surrounding areas. It is here for everyone. Either come along to one of the organised groups shown on this poster or just pop in for a chat and a cuppa – whenever they are open. For more details on What’s On at the Keepers in August click here.
URL:https://www.kingswoodgrapevine.co.uk/event/the-keepers-wotton-area-community-hub-whats-on-in-august/
LOCATION:The Keepers Community Hub\, Symn Lane\, Wotton Under Edge\, Gloucestershire\, GL12 7BD\, United Kingdom
CATEGORIES:Community
ATTACH;FMTTYPE=image/jpeg:https://www.kingswoodgrapevine.co.uk/wp-content/uploads/2023/08/Whats-on-in-August-Keepers.jpg
END:VEVENT
BEGIN:VEVENT
DTSTART;TZID=UTC:20230701T080000
DTEND;TZID=UTC:20230731T170000
DTSTAMP:20260425T103757
CREATED:20230624T072401Z
LAST-MODIFIED:20230624T072401Z
UID:786-1688198400-1690822800@www.kingswoodgrapevine.co.uk
SUMMARY:The Keepers - Wotton Area Community Hub - What's on in July
DESCRIPTION:The Keepers is a community hub supporting the residents of Wotton and the surrounding areas. It is here for everyone. Either come along to one of the organised groups shown on this poster or just pop in for a chat and a cuppa – whenever they are open. For more details on What’s On at the Keepers click here.
URL:https://www.kingswoodgrapevine.co.uk/event/the-keepers-wotton-area-community-hub-whats-on-in-july/
LOCATION:The Keepers Community Hub\, Symn Lane\, Wotton Under Edge\, Gloucestershire\, GL12 7BD\, United Kingdom
CATEGORIES:Community
ATTACH;FMTTYPE=image/png:https://www.kingswoodgrapevine.co.uk/wp-content/uploads/2023/06/JULY-png-1.png
END:VEVENT
BEGIN:VEVENT
DTSTART;TZID=UTC:20230601T080000
DTEND;TZID=UTC:20230630T170000
DTSTAMP:20260425T103757
CREATED:20230525T054827Z
LAST-MODIFIED:20230525T054827Z
UID:762-1685606400-1688144400@www.kingswoodgrapevine.co.uk
SUMMARY:The Keepers – Wotton Area Community Hub – What’s on in June
DESCRIPTION:The Keepers is a community hub supporting the residents of Wotton and the surrounding areas. It is here for everyone. Either come along to one of the organised groups shown on this poster or just pop in for a chat and a cuppa – whenever they are open. For more details on What’s On at the Keepers click here.
URL:https://www.kingswoodgrapevine.co.uk/event/the-keepers-wotton-area-community-hub-whats-on-in-june/
LOCATION:The Keepers Community Hub\, Symn Lane\, Wotton Under Edge\, Gloucestershire\, GL12 7BD\, United Kingdom
CATEGORIES:Community
ATTACH;FMTTYPE=image/png:https://www.kingswoodgrapevine.co.uk/wp-content/uploads/2023/05/JUNE-1-Whats-On-Keepers.png
END:VEVENT
BEGIN:VEVENT
DTSTART;VALUE=DATE:20230501
DTEND;VALUE=DATE:20230601
DTSTAMP:20260425T103757
CREATED:20230506T101418Z
LAST-MODIFIED:20230506T101418Z
UID:740-1682899200-1685577599@www.kingswoodgrapevine.co.uk
SUMMARY:The Keepers - Wotton Area Community Hub - What's on in May
DESCRIPTION:The Keepers is a community hub supporting the residents of Wotton and the surrounding areas. It is here for everyone. Either come along to one of the organised groups shown on this poster or just pop in for a chat and a cuppa – whenever they are open. For more details on What’s On at the Keepers click here.
URL:https://www.kingswoodgrapevine.co.uk/event/the-keepers-wotton-area-community-hub-whats-on-in-may/
LOCATION:The Keepers Community Hub\, Symn Lane\, Wotton Under Edge\, Gloucestershire\, GL12 7BD\, United Kingdom
CATEGORIES:Community
ATTACH;FMTTYPE=image/jpeg:https://www.kingswoodgrapevine.co.uk/wp-content/uploads/2023/05/Whats-on-monthly-2-1_page-0001.jpg
END:VEVENT
BEGIN:VEVENT
DTSTART;VALUE=DATE:20230401
DTEND;VALUE=DATE:20230501
DTSTAMP:20260425T103757
CREATED:20230325T082042Z
LAST-MODIFIED:20230325T082042Z
UID:694-1680307200-1682899199@www.kingswoodgrapevine.co.uk
SUMMARY:The Keepers - Wotton Area Community Hub - What's on in April
DESCRIPTION:The Keepers is a community hub supporting the residents of Wotton and the surrounding areas. It is here for everyone. Either come along to one of the organised groups shown on this poster or just pop in for a chat and a cuppa – whenever they are open. For more details on What’s On at the Keepers click here.
URL:https://www.kingswoodgrapevine.co.uk/event/the-keepers-wotton-area-community-hub-whats-on-in-april/
LOCATION:The Keepers Community Hub\, Symn Lane\, Wotton Under Edge\, Gloucestershire\, GL12 7BD\, United Kingdom
CATEGORIES:Community
ATTACH;FMTTYPE=image/jpeg:https://www.kingswoodgrapevine.co.uk/wp-content/uploads/2023/03/The-Keepers-Whats-on-in-April-2023-JPeg-scaled.jpg
END:VEVENT
BEGIN:VEVENT
DTSTART;VALUE=DATE:20230101
DTEND;VALUE=DATE:20230201
DTSTAMP:20260425T103757
CREATED:20221229T090045Z
LAST-MODIFIED:20221229T123617Z
UID:641-1672531200-1675209599@www.kingswoodgrapevine.co.uk
SUMMARY:The Keepers - Wotton Area Community Hub - What's on in January
DESCRIPTION:The Keepers is a community hub supporting the residents of Wotton and the surrounding areas. It is here for everyone. Either come along to one of the organised groups shown on this poster or just pop in for a chat and a cuppa – whenever they are open. For more details on What’s On at the Keepers click here.
URL:https://www.kingswoodgrapevine.co.uk/event/the-keepers-wotton-area-community-hub-whats-on-in-january/
LOCATION:The Keepers Community Hub\, Symn Lane\, Wotton Under Edge\, Gloucestershire\, GL12 7BD\, United Kingdom
CATEGORIES:Community
ATTACH;FMTTYPE=image/jpeg:https://www.kingswoodgrapevine.co.uk/wp-content/uploads/2022/12/Whats-on-in-January-Keepers-scaled.jpg
END:VEVENT
BEGIN:VEVENT
DTSTART;VALUE=DATE:20221001
DTEND;VALUE=DATE:20221101
DTSTAMP:20260425T103757
CREATED:20221001T053701Z
LAST-MODIFIED:20221009T082557Z
UID:559-1664582400-1667260799@www.kingswoodgrapevine.co.uk
SUMMARY:The Keepers - Wotton Area Community Hub - What's on in October
DESCRIPTION:The Keepers is a community hub supporting the residents of Wotton and the surrounding areas. It is here for everyone. Either come along to one of the organised groups shown on this poster or just pop in for a chat and a cuppa – whenever they are open. For more details on What’s On at the Keepers click here.
URL:https://www.kingswoodgrapevine.co.uk/event/the-keepers-wotton-area-community-hub-whats-on-in-october/
LOCATION:The Keepers Community Hub\, Symn Lane\, Wotton Under Edge\, Gloucestershire\, GL12 7BD\, United Kingdom
CATEGORIES:Community
ATTACH;FMTTYPE=image/jpeg:https://www.kingswoodgrapevine.co.uk/wp-content/uploads/2022/10/Whats-on-in-October-JPEG.jpg
END:VEVENT
END:VCALENDAR